BEGIN:VCALENDAR
VERSION:2.0
PRODID:-//Lynnwood Alano Club - ECPv6.15.20//NONSGML v1.0//EN
CALSCALE:GREGORIAN
METHOD:PUBLISH
X-WR-CALNAME:Lynnwood Alano Club
X-ORIGINAL-URL:https://lynnwoodalanoclub.org
X-WR-CALDESC:Events for Lynnwood Alano Club
REFRESH-INTERVAL;VALUE=DURATION:PT1H
X-Robots-Tag:noindex
X-PUBLISHED-TTL:PT1H
BEGIN:VTIMEZONE
TZID:America/Los_Angeles
BEGIN:DAYLIGHT
TZOFFSETFROM:-0800
TZOFFSETTO:-0700
TZNAME:PDT
DTSTART:20250309T100000
END:DAYLIGHT
BEGIN:STANDARD
TZOFFSETFROM:-0700
TZOFFSETTO:-0800
TZNAME:PST
DTSTART:20251102T090000
END:STANDARD
BEGIN:DAYLIGHT
TZOFFSETFROM:-0800
TZOFFSETTO:-0700
TZNAME:PDT
DTSTART:20260308T100000
END:DAYLIGHT
BEGIN:STANDARD
TZOFFSETFROM:-0700
TZOFFSETTO:-0800
TZNAME:PST
DTSTART:20261101T090000
END:STANDARD
BEGIN:DAYLIGHT
TZOFFSETFROM:-0800
TZOFFSETTO:-0700
TZNAME:PDT
DTSTART:20270314T100000
END:DAYLIGHT
BEGIN:STANDARD
TZOFFSETFROM:-0700
TZOFFSETTO:-0800
TZNAME:PST
DTSTART:20271107T090000
END:STANDARD
END:VTIMEZONE
BEGIN:VEVENT
DTSTART;TZID=America/Los_Angeles:20260428T103000
DTEND;TZID=America/Los_Angeles:20260428T220000
DTSTAMP:20260422T070038
CREATED:20260403T165644Z
LAST-MODIFIED:20260403T165644Z
UID:10087-1777372200-1777413600@lynnwoodalanoclub.org
SUMMARY:Raise Some Dough LAC FUNDRAISER
DESCRIPTION:Tuesday April 28th 10:30 AM until 10:00 PM \nJoin MOD Pizza in supporting the Lynnwood Alano Club \nby getting together and eating Pizza. \nFundraiser Code: MODGIVES20 \nMOD PIZZA 19718 HWY 99 Lynnwood WA 98036 \nTuesday April 28th 10:30 AM until 10:PM \nFOOD\, FUN\,  and FELLOWSHIP
URL:https://lynnwoodalanoclub.org/event/raise-some-dough-lac-fundraiser/
LOCATION:MOD PIZZA\, 19718 HWY 99\, LYNNWOOD\, WA\, 98036\, United States
ATTACH;FMTTYPE=image/png:https://lynnwoodalanoclub.org/wp-content/uploads/2026/04/Mod-Pizza-April-2026.png
END:VEVENT
BEGIN:VEVENT
DTSTART;TZID=America/Los_Angeles:20260503T133000
DTEND;TZID=America/Los_Angeles:20260503T160000
DTSTAMP:20260422T070038
CREATED:20260316T223115Z
LAST-MODIFIED:20260404T172851Z
UID:10079-1777815000-1777824000@lynnwoodalanoclub.org
SUMMARY:Arts and Crafts - Prayer Flags
DESCRIPTION:Come join us for Prayer Flag Making!\nEveryone creates their own prayer flags.\nSunday May 3rd\n1:30-4:00 PM\nMeeting Room A\nMaking Prayer Flags\nAll Materials are Provided\nDesser and Snack Table
URL:https://lynnwoodalanoclub.org/event/easter-arts-and-crafts/
LOCATION:Lynnwood Alano Club\, 3717 196th St SW\, Lynnwood\, WA\, 98036\, United States
ATTACH;FMTTYPE=image/jpeg:https://lynnwoodalanoclub.org/wp-content/uploads/2026/03/Prayer-Flags-8X11.jpg
END:VEVENT
BEGIN:VEVENT
DTSTART;TZID=America/Los_Angeles:20260613T120000
DTEND;TZID=America/Los_Angeles:20260613T170000
DTSTAMP:20260422T070038
CREATED:20230119T202936Z
LAST-MODIFIED:20260407T154052Z
UID:9302-1781352000-1781370000@lynnwoodalanoclub.org
SUMMARY:LAC Summer Picnic
DESCRIPTION:LAC Summer Picnic 🌭\n\n\n\nEdmonds City Park 600 3rd Ave S Edmonds\, WA 98020 Shelter #2 \nFood\, fellowship and family friendly fun! \n\nThe Lac will provide Main Course BBQ and refreshments.\nPlease bring your favorite salad\, side dish or dessert to share.\n\n50/50 Raffle \nGift Basket Raffles \nFace Painting \nKick Ball Competition!
URL:https://lynnwoodalanoclub.org/event/%f0%9f%a7%ba-lac-annual-summer-picnic-2/
LOCATION:Edmonds City Park\, 600 3rd Ave S\, Edmonds\, WA\, 98020
ATTACH;FMTTYPE=image/jpeg:https://lynnwoodalanoclub.org/wp-content/uploads/2026/04/New-Summer-Picnic-2026-8.5-x-11-in.jpg
END:VEVENT
END:VCALENDAR