BEGIN:VCALENDAR
VERSION:2.0
PRODID:-//Lynnwood Alano Club - ECPv6.15.20//NONSGML v1.0//EN
CALSCALE:GREGORIAN
METHOD:PUBLISH
X-WR-CALNAME:Lynnwood Alano Club
X-ORIGINAL-URL:https://lynnwoodalanoclub.org
X-WR-CALDESC:Events for Lynnwood Alano Club
REFRESH-INTERVAL;VALUE=DURATION:PT1H
X-Robots-Tag:noindex
X-PUBLISHED-TTL:PT1H
BEGIN:VTIMEZONE
TZID:America/Los_Angeles
BEGIN:DAYLIGHT
TZOFFSETFROM:-0800
TZOFFSETTO:-0700
TZNAME:PDT
DTSTART:20180311T100000
END:DAYLIGHT
BEGIN:STANDARD
TZOFFSETFROM:-0700
TZOFFSETTO:-0800
TZNAME:PST
DTSTART:20181104T090000
END:STANDARD
BEGIN:DAYLIGHT
TZOFFSETFROM:-0800
TZOFFSETTO:-0700
TZNAME:PDT
DTSTART:20190310T100000
END:DAYLIGHT
BEGIN:STANDARD
TZOFFSETFROM:-0700
TZOFFSETTO:-0800
TZNAME:PST
DTSTART:20191103T090000
END:STANDARD
BEGIN:DAYLIGHT
TZOFFSETFROM:-0800
TZOFFSETTO:-0700
TZNAME:PDT
DTSTART:20200308T100000
END:DAYLIGHT
BEGIN:STANDARD
TZOFFSETFROM:-0700
TZOFFSETTO:-0800
TZNAME:PST
DTSTART:20201101T090000
END:STANDARD
BEGIN:DAYLIGHT
TZOFFSETFROM:-0800
TZOFFSETTO:-0700
TZNAME:PDT
DTSTART:20210314T100000
END:DAYLIGHT
BEGIN:STANDARD
TZOFFSETFROM:-0700
TZOFFSETTO:-0800
TZNAME:PST
DTSTART:20211107T090000
END:STANDARD
BEGIN:DAYLIGHT
TZOFFSETFROM:-0800
TZOFFSETTO:-0700
TZNAME:PDT
DTSTART:20220313T100000
END:DAYLIGHT
BEGIN:STANDARD
TZOFFSETFROM:-0700
TZOFFSETTO:-0800
TZNAME:PST
DTSTART:20221106T090000
END:STANDARD
BEGIN:DAYLIGHT
TZOFFSETFROM:-0800
TZOFFSETTO:-0700
TZNAME:PDT
DTSTART:20230312T100000
END:DAYLIGHT
BEGIN:STANDARD
TZOFFSETFROM:-0700
TZOFFSETTO:-0800
TZNAME:PST
DTSTART:20231105T090000
END:STANDARD
BEGIN:DAYLIGHT
TZOFFSETFROM:-0800
TZOFFSETTO:-0700
TZNAME:PDT
DTSTART:20240310T100000
END:DAYLIGHT
BEGIN:STANDARD
TZOFFSETFROM:-0700
TZOFFSETTO:-0800
TZNAME:PST
DTSTART:20241103T090000
END:STANDARD
BEGIN:DAYLIGHT
TZOFFSETFROM:-0800
TZOFFSETTO:-0700
TZNAME:PDT
DTSTART:20250309T100000
END:DAYLIGHT
BEGIN:STANDARD
TZOFFSETFROM:-0700
TZOFFSETTO:-0800
TZNAME:PST
DTSTART:20251102T090000
END:STANDARD
BEGIN:DAYLIGHT
TZOFFSETFROM:-0800
TZOFFSETTO:-0700
TZNAME:PDT
DTSTART:20260308T100000
END:DAYLIGHT
BEGIN:STANDARD
TZOFFSETFROM:-0700
TZOFFSETTO:-0800
TZNAME:PST
DTSTART:20261101T090000
END:STANDARD
BEGIN:DAYLIGHT
TZOFFSETFROM:-0800
TZOFFSETTO:-0700
TZNAME:PDT
DTSTART:20270314T100000
END:DAYLIGHT
BEGIN:STANDARD
TZOFFSETFROM:-0700
TZOFFSETTO:-0800
TZNAME:PST
DTSTART:20271107T090000
END:STANDARD
END:VTIMEZONE
BEGIN:VEVENT
DTSTART;TZID=America/Los_Angeles:20260301T133000
DTEND;TZID=America/Los_Angeles:20260301T160000
DTSTAMP:20260422T125004
CREATED:20230119T193542Z
LAST-MODIFIED:20260224T222304Z
UID:9280-1772371800-1772380800@lynnwoodalanoclub.org
SUMMARY:Arts And Crafts - Halloween Themed Crafts
DESCRIPTION:Sunday March 1st at the Lynnwood Alano Club \nStarting at 1:30 – 4:00 PM \nCrafts for this Sunday: \nGod Boxes Guided by Vivian \nAll Materials are Provided \n  \n 
URL:https://lynnwoodalanoclub.org/event/first-sunday-art-club/
LOCATION:Lynnwood Alano Club\, 3717 196th St SW\, Lynnwood\, WA\, 98036\, United States
CATEGORIES:Special Event
ATTACH;FMTTYPE=image/jpeg:https://lynnwoodalanoclub.org/wp-content/uploads/2026/02/Arts-and-Crafts-March-01-1.jpg
END:VEVENT
BEGIN:VEVENT
DTSTART;TZID=America/Los_Angeles:20241130T150000
DTEND;TZID=America/Los_Angeles:20241130T180000
DTSTAMP:20260422T125004
CREATED:20241111T190347Z
LAST-MODIFIED:20241111T190347Z
UID:9897-1732978800-1732989600@lynnwoodalanoclub.org
SUMMARY:HA FreindsGiving
DESCRIPTION:HA FriendsGiving \nSpeakers\, Potluck\, Raffles/Prizes \n$5 Suggested Donation \n 
URL:https://lynnwoodalanoclub.org/event/ha-freindsgiving/
CATEGORIES:Special Event
ATTACH;FMTTYPE=image/jpeg:https://lynnwoodalanoclub.org/wp-content/uploads/2024/11/FriendsGiving.jpg
END:VEVENT
BEGIN:VEVENT
DTSTART;TZID=America/Los_Angeles:20211125T040000
DTEND;TZID=America/Los_Angeles:20211126T230000
DTSTAMP:20260422T125004
CREATED:20211124T014217Z
LAST-MODIFIED:20211124T173436Z
UID:8582-1637812800-1637967600@lynnwoodalanoclub.org
SUMMARY:? Thanksgiving Alcathon
DESCRIPTION:?  Thanksgiving Alcathon\nHappy Holiday Season! \nWe will be doing a Thanksgiving Alcathon at the Lynnwood Alano Club from Thursday 4:00 am thru Friday 11:00 pm. If you would like to host a meeting during the alcathon\, there are still a handful of open slots. You are encouraged to attend meetings during this time in support of the suffering alcoholics and addicts! \nWe will not be having a Thanksgiving Dinner buffet this year like we have done in previous years. However\, there will be a microwave available to use if anyone wants to bring in store-bought microwave dinners. If you bring in any desserts\, please have them pre-sliced and properly covered. Also bringing paper plates\, napkins\, and disposable utensils will be most useful. \n\nThank you all for your support and cooperation during these trying times! \nWe wish you all a thankful\, joyful\, and peaceful holiday season! \nClick here to view the schedule
URL:https://lynnwoodalanoclub.org/event/thanksgiving-alcathon-2/
LOCATION:Lynnwood Alano Club\, 3717 196th St SW\, Lynnwood\, WA\, 98036\, United States
CATEGORIES:Special Event
END:VEVENT
BEGIN:VEVENT
DTSTART;TZID=America/Los_Angeles:20210531T173000
DTEND;TZID=America/Los_Angeles:20210531T173000
DTSTAMP:20260422T125004
CREATED:20210527T211242Z
LAST-MODIFIED:20210528T162813Z
UID:8243-1622482200-1622482200@lynnwoodalanoclub.org
SUMMARY:? 50/50 LAC Raffle Drawing
DESCRIPTION:? 50/50 LAC RAFFLE DRAWING ? \nTicket to be pulled at 5:30 Happy Hour Meeting \n50% goes to winning ticket; 50% goes to LAC.
URL:https://lynnwoodalanoclub.org/event/50-50-lac-raffle-drawing/
CATEGORIES:Special Event
END:VEVENT
BEGIN:VEVENT
DTSTART;TZID=America/Los_Angeles:20210430T173000
DTEND;TZID=America/Los_Angeles:20210430T173000
DTSTAMP:20260422T125004
CREATED:20210404T165509Z
LAST-MODIFIED:20210528T162129Z
UID:7964-1619803800-1619803800@lynnwoodalanoclub.org
SUMMARY:? 50/50 LAC Raffle Drawing
DESCRIPTION:? 50/50 LAC RAFFLE DRAWING ? \nTicket to be pulled at 5:30 Happy Hour Meeting
URL:https://lynnwoodalanoclub.org/event/%f0%9f%8e%9f50-50-lac-raffle-drawing%f0%9f%8e%9f/
CATEGORIES:Special Event
END:VEVENT
BEGIN:VEVENT
DTSTART;TZID=America/Los_Angeles:20201213T140000
DTEND;TZID=America/Los_Angeles:20201213T160000
DTSTAMP:20260422T125004
CREATED:20201108T234609Z
LAST-MODIFIED:20201108T234609Z
UID:7895-1607868000-1607875200@lynnwoodalanoclub.org
SUMMARY:?Paint pouring is back!!!!!?
DESCRIPTION:Pour your paint out. \nCreative art experiance for the whole family. \n$20 per person
URL:https://lynnwoodalanoclub.org/event/%f0%9f%8e%a8paint-pouring-is-back%f0%9f%8e%a8/
CATEGORIES:Special Event
END:VEVENT
BEGIN:VEVENT
DTSTART;TZID=America/Los_Angeles:20201114T080000
DTEND;TZID=America/Los_Angeles:20201219T170000
DTSTAMP:20260422T125004
CREATED:20201115T032835Z
LAST-MODIFIED:20201115T032835Z
UID:7900-1605340800-1608397200@lynnwoodalanoclub.org
SUMMARY:?Holiday 50/50 ?
DESCRIPTION:The LAC holiday 50/50 raffle is here! \n$1 per ticket \nWinning number will be drawn Dec 19th and posted at the club. \nNo need to be present. \n 
URL:https://lynnwoodalanoclub.org/event/%f0%9f%8e%89holiday-50-50-%f0%9f%8e%8a/
CATEGORIES:Special Event
END:VEVENT
BEGIN:VEVENT
DTSTART;VALUE=DATE:20200927
DTEND;VALUE=DATE:20200928
DTSTAMP:20260422T125004
CREATED:20200902T184732Z
LAST-MODIFIED:20200906T170731Z
UID:7875-1601164800-1601251199@lynnwoodalanoclub.org
SUMMARY:? Art Fest! ?
DESCRIPTION:Sorry everyone! \nAll sold out! \nStay posted for the next event!
URL:https://lynnwoodalanoclub.org/event/%f0%9f%8e%a8-art-fest-%f0%9f%8e%a8/
CATEGORIES:Special Event
END:VEVENT
BEGIN:VEVENT
DTSTART;TZID=America/Los_Angeles:20200225T140000
DTEND;TZID=America/Los_Angeles:20200225T160000
DTSTAMP:20260422T125004
CREATED:20200223T034500Z
LAST-MODIFIED:20200223T034653Z
UID:7839-1582639200-1582646400@lynnwoodalanoclub.org
SUMMARY:Soup contest
DESCRIPTION:Homemade soup contest!\n$5 cover for contestants and tasters. \n 
URL:https://lynnwoodalanoclub.org/event/soup-contest/
CATEGORIES:Special Event
END:VEVENT
BEGIN:VEVENT
DTSTART;TZID=America/Los_Angeles:20191231T210000
DTEND;TZID=America/Los_Angeles:20200101T000000
DTSTAMP:20260422T125004
CREATED:20191205T065920Z
LAST-MODIFIED:20191205T065920Z
UID:7746-1577826000-1577836800@lynnwoodalanoclub.org
SUMMARY:?     New Years Eve Party     ?
DESCRIPTION:Don’t be alone  new years eve! \nMusic\, Dancing\, and lots of good people. \n$3 admission fee. $5 for couples.
URL:https://lynnwoodalanoclub.org/event/%f0%9f%8e%89-new-years-eve-party-%f0%9f%8e%8a/
CATEGORIES:Special Event
END:VEVENT
BEGIN:VEVENT
DTSTART;TZID=America/Los_Angeles:20191225T210000
DTEND;TZID=America/Los_Angeles:20191225T233000
DTSTAMP:20260422T125004
CREATED:20191205T071649Z
LAST-MODIFIED:20191208T024858Z
UID:7754-1577307600-1577316600@lynnwoodalanoclub.org
SUMMARY:?  LIVE BAND ?
DESCRIPTION:$5 admission
URL:https://lynnwoodalanoclub.org/event/%f0%9f%8e%b6-live-band-%f0%9f%8e%b8/
CATEGORIES:Special Event
END:VEVENT
BEGIN:VEVENT
DTSTART;TZID=America/Los_Angeles:20191224T060000
DTEND;TZID=America/Los_Angeles:20191226T233000
DTSTAMP:20260422T125004
CREATED:20191218T204622Z
LAST-MODIFIED:20191220T201517Z
UID:7775-1577167200-1577403000@lynnwoodalanoclub.org
SUMMARY:?Christmas Alcathon?
DESCRIPTION:Christmas Alcathon\nBeing held at the Lynnwood Alamo Club.\nSponsored by the Continental Breakfast \nMeetings ’round the clock -please join us Tuesday\, Dec 24th thru Thursday\, Dec 26th chair a meeting during the Alcathon. Many time slots available. \n \nSignup sheet for meetings is at the LAC.
URL:https://lynnwoodalanoclub.org/event/%f0%9f%8e%84christmas-alcathon%f0%9f%8e%84/
CATEGORIES:Special Event
END:VEVENT
BEGIN:VEVENT
DTSTART;TZID=America/Los_Angeles:20191221T193000
DTEND;TZID=America/Los_Angeles:20191221T213000
DTSTAMP:20260422T125004
CREATED:20191205T065200Z
LAST-MODIFIED:20191218T014359Z
UID:7744-1576956600-1576963800@lynnwoodalanoclub.org
SUMMARY:? Speakers Meeting ?
DESCRIPTION:Come and listen to our experience\, strength\, and hope. \nTwo speakers… Shannon and Sher.
URL:https://lynnwoodalanoclub.org/event/%f0%9f%91%82-speakers-meeting-%f0%9f%91%82/
CATEGORIES:Special Event
END:VEVENT
BEGIN:VEVENT
DTSTART;TZID=America/Los_Angeles:20191215T170000
DTEND;TZID=America/Los_Angeles:20191215T170000
DTSTAMP:20260422T125004
CREATED:20191120T200321Z
LAST-MODIFIED:20191120T200437Z
UID:7735-1576429200-1576429200@lynnwoodalanoclub.org
SUMMARY:?Children's Christmas Party?
DESCRIPTION:A Christmas party! \nToys for the children ? \nPictures with santa ? \nCookie decorating? \nArts and crafts ? \n 
URL:https://lynnwoodalanoclub.org/event/%f0%9f%8e%85childrens-christmas-party%f0%9f%8e%81/
CATEGORIES:Special Event
END:VEVENT
BEGIN:VEVENT
DTSTART;TZID=America/Los_Angeles:20191208T140000
DTEND;TZID=America/Los_Angeles:20191208T163000
DTSTAMP:20260422T125004
CREATED:20191118T225030Z
LAST-MODIFIED:20191118T233646Z
UID:7730-1575813600-1575822600@lynnwoodalanoclub.org
SUMMARY:Paint Pouring!
DESCRIPTION:Come Pour your hart out. \n$20 and you too can create two 12″ x 12″  painted masterpieces. \n 
URL:https://lynnwoodalanoclub.org/event/paint-pouring/
CATEGORIES:Special Event
END:VEVENT
END:VCALENDAR