BEGIN:VCALENDAR
VERSION:2.0
PRODID:-//Lynnwood Alano Club - ECPv6.15.20//NONSGML v1.0//EN
CALSCALE:GREGORIAN
METHOD:PUBLISH
X-WR-CALNAME:Lynnwood Alano Club
X-ORIGINAL-URL:https://lynnwoodalanoclub.org
X-WR-CALDESC:Events for Lynnwood Alano Club
REFRESH-INTERVAL;VALUE=DURATION:PT1H
X-Robots-Tag:noindex
X-PUBLISHED-TTL:PT1H
BEGIN:VTIMEZONE
TZID:America/Los_Angeles
BEGIN:DAYLIGHT
TZOFFSETFROM:-0800
TZOFFSETTO:-0700
TZNAME:PDT
DTSTART:20180311T100000
END:DAYLIGHT
BEGIN:STANDARD
TZOFFSETFROM:-0700
TZOFFSETTO:-0800
TZNAME:PST
DTSTART:20181104T090000
END:STANDARD
BEGIN:DAYLIGHT
TZOFFSETFROM:-0800
TZOFFSETTO:-0700
TZNAME:PDT
DTSTART:20190310T100000
END:DAYLIGHT
BEGIN:STANDARD
TZOFFSETFROM:-0700
TZOFFSETTO:-0800
TZNAME:PST
DTSTART:20191103T090000
END:STANDARD
BEGIN:DAYLIGHT
TZOFFSETFROM:-0800
TZOFFSETTO:-0700
TZNAME:PDT
DTSTART:20200308T100000
END:DAYLIGHT
BEGIN:STANDARD
TZOFFSETFROM:-0700
TZOFFSETTO:-0800
TZNAME:PST
DTSTART:20201101T090000
END:STANDARD
BEGIN:DAYLIGHT
TZOFFSETFROM:-0800
TZOFFSETTO:-0700
TZNAME:PDT
DTSTART:20210314T100000
END:DAYLIGHT
BEGIN:STANDARD
TZOFFSETFROM:-0700
TZOFFSETTO:-0800
TZNAME:PST
DTSTART:20211107T090000
END:STANDARD
END:VTIMEZONE
BEGIN:VEVENT
DTSTART;TZID=America/Los_Angeles:20200314T193000
DTEND;TZID=America/Los_Angeles:20200314T210000
DTSTAMP:20260422T183136
CREATED:20200220T013548Z
LAST-MODIFIED:20200220T013549Z
UID:7827-1584214200-1584219600@lynnwoodalanoclub.org
SUMMARY:Speakers Meeting.
DESCRIPTION:Two speakers share their experience\, strength\, and hope. \nCathie and Mike share.
URL:https://lynnwoodalanoclub.org/event/speakers-meeting-19/
CATEGORIES:Speakers Meeting
END:VEVENT
BEGIN:VEVENT
DTSTART;TZID=America/Los_Angeles:20200307T193000
DTEND;TZID=America/Los_Angeles:20200307T210000
DTSTAMP:20260422T183136
CREATED:20200220T013323Z
LAST-MODIFIED:20200220T013324Z
UID:7825-1583609400-1583614800@lynnwoodalanoclub.org
SUMMARY:Speakers Meeting
DESCRIPTION:Two speakers share there experience\, strenght\, and hope. \nJinah and Kalvin share.
URL:https://lynnwoodalanoclub.org/event/speakers-meeting-18/
CATEGORIES:Speakers Meeting
END:VEVENT
BEGIN:VEVENT
DTSTART;TZID=America/Los_Angeles:20200229T193000
DTEND;TZID=America/Los_Angeles:20200229T210000
DTSTAMP:20260422T183136
CREATED:20200220T012317Z
LAST-MODIFIED:20200220T012317Z
UID:7822-1583004600-1583010000@lynnwoodalanoclub.org
SUMMARY:Birthday Speakers Meeting.
DESCRIPTION:We celebrate AA brithdays with cake\, coins\, and fellowship. \nSpeaker Jason B will share his experience\, strenght\, and hope.
URL:https://lynnwoodalanoclub.org/event/birthday-speakers-meeting/
CATEGORIES:Speakers Meeting
END:VEVENT
BEGIN:VEVENT
DTSTART;TZID=America/Los_Angeles:20200222T190000
DTEND;TZID=America/Los_Angeles:20200222T210000
DTSTAMP:20260422T183136
CREATED:20200131T013813Z
LAST-MODIFIED:20200131T013813Z
UID:7817-1582398000-1582405200@lynnwoodalanoclub.org
SUMMARY:Speakers Meeting
DESCRIPTION:Two speakers share their experience\, strength\, and hope. \nAarin on and Thorn share.
URL:https://lynnwoodalanoclub.org/event/speakers-meeting-17/
CATEGORIES:Speakers Meeting
END:VEVENT
BEGIN:VEVENT
DTSTART;TZID=America/Los_Angeles:20200215T193000
DTEND;TZID=America/Los_Angeles:20200215T210000
DTSTAMP:20260422T183136
CREATED:20200131T013518Z
LAST-MODIFIED:20200131T013518Z
UID:7815-1581795000-1581800400@lynnwoodalanoclub.org
SUMMARY:Speakers Meeting
DESCRIPTION:Two speakers share their experience\, strength\, and hope. \nJan and Mate share.
URL:https://lynnwoodalanoclub.org/event/speakers-meeting-16/
CATEGORIES:Speakers Meeting
END:VEVENT
BEGIN:VEVENT
DTSTART;TZID=America/Los_Angeles:20200208T193000
DTEND;TZID=America/Los_Angeles:20200208T210000
DTSTAMP:20260422T183136
CREATED:20200131T013255Z
LAST-MODIFIED:20200131T013255Z
UID:7812-1581190200-1581195600@lynnwoodalanoclub.org
SUMMARY:Speakers Meeting
DESCRIPTION:Two speakers share their experience\, strength\, and hope. \nBrooks and Tayler share.
URL:https://lynnwoodalanoclub.org/event/speakers-meeting-15/
CATEGORIES:Speakers Meeting
END:VEVENT
BEGIN:VEVENT
DTSTART;TZID=America/Los_Angeles:20200201T193000
DTEND;TZID=America/Los_Angeles:20200201T210000
DTSTAMP:20260422T183136
CREATED:20200131T013023Z
LAST-MODIFIED:20200131T013023Z
UID:7810-1580585400-1580590800@lynnwoodalanoclub.org
SUMMARY:Speakers meeting.
DESCRIPTION:Two speakers share their experience\, strength\, and hope. \nJerry F and Nina share.
URL:https://lynnwoodalanoclub.org/event/speakers-meeting-14/
CATEGORIES:Speakers Meeting
END:VEVENT
BEGIN:VEVENT
DTSTART;TZID=America/Los_Angeles:20200125T193000
DTEND;TZID=America/Los_Angeles:20200125T210000
DTSTAMP:20260422T183136
CREATED:20200114T013038Z
LAST-MODIFIED:20200114T013038Z
UID:7805-1579980600-1579986000@lynnwoodalanoclub.org
SUMMARY:Speakers Meeting
DESCRIPTION:Birthday celibrations! \n hear a messages of experance\, strength\, and Hope. \nCharlie M will be sharing.
URL:https://lynnwoodalanoclub.org/event/speakers-meeting-13/
CATEGORIES:Speakers Meeting
END:VEVENT
BEGIN:VEVENT
DTSTART;TZID=America/Los_Angeles:20200118T073000
DTEND;TZID=America/Los_Angeles:20200118T210000
DTSTAMP:20260422T183136
CREATED:20200114T012723Z
LAST-MODIFIED:20200114T012723Z
UID:7802-1579332600-1579381200@lynnwoodalanoclub.org
SUMMARY:Speakers Meeting
DESCRIPTION:Come and hear two messages of experance\, strength\, and Hope. \nBetsy and Shannon will be sharing.
URL:https://lynnwoodalanoclub.org/event/speakers-meeting-12/
CATEGORIES:Speakers Meeting
END:VEVENT
BEGIN:VEVENT
DTSTART;TZID=America/Los_Angeles:20191228T193000
DTEND;TZID=America/Los_Angeles:20191228T210000
DTSTAMP:20260422T183136
CREATED:20191218T014853Z
LAST-MODIFIED:20191218T014853Z
UID:7772-1577561400-1577566800@lynnwoodalanoclub.org
SUMMARY:? Speakers Meeting ?
DESCRIPTION:Come and listen to Glen’s message of experance\, strength\, and hope. \nIt’s a Birthday meeting! Coins & Cake!
URL:https://lynnwoodalanoclub.org/event/%f0%9f%8e%a4-speakers-meeting-%f0%9f%91%82/
CATEGORIES:Speakers Meeting
END:VEVENT
BEGIN:VEVENT
DTSTART;TZID=America/Los_Angeles:20191214T193000
DTEND;TZID=America/Los_Angeles:20191214T210000
DTSTAMP:20260422T183136
CREATED:20191205T064805Z
LAST-MODIFIED:20191205T064806Z
UID:7742-1576351800-1576357200@lynnwoodalanoclub.org
SUMMARY:Speakers Meeting
DESCRIPTION:Come and listen to our experience\, strength\, and hope. \nTwo speakers to be announced.
URL:https://lynnwoodalanoclub.org/event/speakers-meeting-11/
CATEGORIES:Speakers Meeting
END:VEVENT
BEGIN:VEVENT
DTSTART;TZID=America/Los_Angeles:20191207T193000
DTEND;TZID=America/Los_Angeles:20191207T210000
DTSTAMP:20260422T183136
CREATED:20191205T064445Z
LAST-MODIFIED:20191206T013447Z
UID:7740-1575747000-1575752400@lynnwoodalanoclub.org
SUMMARY:?Speakers Meeting?
DESCRIPTION:Come listen to our experience\, strength\, and hope. \nSpeakers Butch and Keith.
URL:https://lynnwoodalanoclub.org/event/%f0%9f%8e%99speakers-meeting%f0%9f%91%82/
CATEGORIES:Speakers Meeting
END:VEVENT
BEGIN:VEVENT
DTSTART;TZID=America/Los_Angeles:20191123T193000
DTEND;TZID=America/Los_Angeles:20191123T210000
DTSTAMP:20260422T183136
CREATED:20191029T195121Z
LAST-MODIFIED:20191029T195121Z
UID:7700-1574537400-1574542800@lynnwoodalanoclub.org
SUMMARY:?Speakers Meeting?
DESCRIPTION:Jim R and Tracy \nShare there experiance\, strength\, and hope.
URL:https://lynnwoodalanoclub.org/event/%f0%9f%8e%a4speakers-meeting%f0%9f%91%82-2/
CATEGORIES:Speakers Meeting
END:VEVENT
BEGIN:VEVENT
DTSTART;TZID=America/Los_Angeles:20191116T193000
DTEND;TZID=America/Los_Angeles:20191116T210000
DTSTAMP:20260422T183136
CREATED:20191029T194829Z
LAST-MODIFIED:20191029T194829Z
UID:7697-1573932600-1573938000@lynnwoodalanoclub.org
SUMMARY:?Speakers Meeting?
DESCRIPTION:Aime D and Jake V \nShare there experiance\, strength\, and hope.
URL:https://lynnwoodalanoclub.org/event/%f0%9f%8e%a4speakers-meeting%f0%9f%91%82/
CATEGORIES:Speakers Meeting
END:VEVENT
BEGIN:VEVENT
DTSTART;TZID=America/Los_Angeles:20191109T193000
DTEND;TZID=America/Los_Angeles:20191109T210000
DTSTAMP:20260422T183136
CREATED:20191016T000443Z
LAST-MODIFIED:20191016T004607Z
UID:7685-1573327800-1573333200@lynnwoodalanoclub.org
SUMMARY:? Speakers Meeting
DESCRIPTION:Amber H and Worren G \nShare there experiance\, strength\, and hope.
URL:https://lynnwoodalanoclub.org/event/%f0%9f%8e%a4-speakers-meeting-3/
CATEGORIES:Speakers Meeting
END:VEVENT
BEGIN:VEVENT
DTSTART;TZID=America/Los_Angeles:20191026T193000
DTEND;TZID=America/Los_Angeles:20191026T233000
DTSTAMP:20260422T183136
CREATED:20191015T235734Z
LAST-MODIFIED:20191016T004840Z
UID:7680-1572118200-1572132600@lynnwoodalanoclub.org
SUMMARY:? Speakers Meeting
DESCRIPTION:Birthday celibrations ? \nLiz M \nShares her experiance\, strength\, and hope.
URL:https://lynnwoodalanoclub.org/event/%f0%9f%8e%a4-speakers-meeting/
CATEGORIES:Speakers Meeting
END:VEVENT
BEGIN:VEVENT
DTSTART;TZID=America/Los_Angeles:20191012T193000
DTEND;TZID=America/Los_Angeles:20191012T210000
DTSTAMP:20260422T183136
CREATED:20190924T030933Z
LAST-MODIFIED:20190924T030933Z
UID:7660-1570908600-1570914000@lynnwoodalanoclub.org
SUMMARY:Speakers Meeting
DESCRIPTION:Our speakers of the night. \nAli D. And Seth N. \n 
URL:https://lynnwoodalanoclub.org/event/speakers-meeting-9/
CATEGORIES:Speakers Meeting
END:VEVENT
BEGIN:VEVENT
DTSTART;TZID=America/Los_Angeles:20191010T193000
DTEND;TZID=America/Los_Angeles:20191010T210000
DTSTAMP:20260422T183136
CREATED:20191018T011603Z
LAST-MODIFIED:20191018T011603Z
UID:7678-1570735800-1570741200@lynnwoodalanoclub.org
SUMMARY:? Speakers Meeting
DESCRIPTION:Bryan H and Sarah C \nExperience\, strength\, and hope.
URL:https://lynnwoodalanoclub.org/event/%f0%9f%8e%a4-speakers-meeting-5/
CATEGORIES:Speakers Meeting
END:VEVENT
BEGIN:VEVENT
DTSTART;TZID=America/Los_Angeles:20191005T193000
DTEND;TZID=America/Los_Angeles:20191005T210000
DTSTAMP:20260422T183136
CREATED:20190924T031048Z
LAST-MODIFIED:20190924T031048Z
UID:7663-1570303800-1570309200@lynnwoodalanoclub.org
SUMMARY:Speakers Meeting.
DESCRIPTION:Speakers to be announced.
URL:https://lynnwoodalanoclub.org/event/speakers-meeting-10/
CATEGORIES:Speakers Meeting
END:VEVENT
BEGIN:VEVENT
DTSTART;TZID=America/Los_Angeles:20190928T193000
DTEND;TZID=America/Los_Angeles:20190928T210000
DTSTAMP:20260422T183136
CREATED:20190924T030101Z
LAST-MODIFIED:20190924T030101Z
UID:7658-1569699000-1569704400@lynnwoodalanoclub.org
SUMMARY:?  Birthday Speakers Meeting  ?
DESCRIPTION:Coins and Cake. \nAndy S. shares some experience\, strength\, and Hope.
URL:https://lynnwoodalanoclub.org/event/%f0%9f%8e%88-birthday-speakers-meeting-%f0%9f%8e%89/
CATEGORIES:Speakers Meeting
END:VEVENT
BEGIN:VEVENT
DTSTART;TZID=America/Los_Angeles:20190921T193000
DTEND;TZID=America/Los_Angeles:20190921T210000
DTSTAMP:20260422T183136
CREATED:20190831T010534Z
LAST-MODIFIED:20190831T010535Z
UID:7610-1569094200-1569099600@lynnwoodalanoclub.org
SUMMARY:Speakers Meeting
DESCRIPTION:Featuring  \nBill W.
URL:https://lynnwoodalanoclub.org/event/speakers-meeting-7/
CATEGORIES:Speakers Meeting
END:VEVENT
BEGIN:VEVENT
DTSTART;TZID=America/Los_Angeles:20190914T193000
DTEND;TZID=America/Los_Angeles:20190914T210000
DTSTAMP:20260422T183136
CREATED:20190903T003249Z
LAST-MODIFIED:20190903T003249Z
UID:7613-1568489400-1568494800@lynnwoodalanoclub.org
SUMMARY:Speakers Meeting
DESCRIPTION:Featuring \n\nLorna S / Dave M
URL:https://lynnwoodalanoclub.org/event/speakers-meeting-8/
CATEGORIES:Speakers Meeting
END:VEVENT
BEGIN:VEVENT
DTSTART;TZID=America/Los_Angeles:20190907T193000
DTEND;TZID=America/Los_Angeles:20190907T210000
DTSTAMP:20260422T183136
CREATED:20190821T013323Z
LAST-MODIFIED:20190821T013323Z
UID:7592-1567884600-1567890000@lynnwoodalanoclub.org
SUMMARY:Speakers meeting
DESCRIPTION:Brandon H / Cedar J
URL:https://lynnwoodalanoclub.org/event/speakers-meeting-6/
CATEGORIES:Speakers Meeting
END:VEVENT
BEGIN:VEVENT
DTSTART;TZID=America/Los_Angeles:20190831T193000
DTEND;TZID=America/Los_Angeles:20190831T210000
DTSTAMP:20260422T183136
CREATED:20190820T003534Z
LAST-MODIFIED:20190820T003535Z
UID:7588-1567279800-1567285200@lynnwoodalanoclub.org
SUMMARY:Speakers Meeting
DESCRIPTION:Birthday celibration and Stephanie will be speaking.
URL:https://lynnwoodalanoclub.org/event/speakers-meeting-5/
CATEGORIES:Speakers Meeting
END:VEVENT
BEGIN:VEVENT
DTSTART;TZID=America/Los_Angeles:20190817T193000
DTEND;TZID=America/Los_Angeles:20190817T210000
DTSTAMP:20260422T183136
CREATED:20190721T175148Z
LAST-MODIFIED:20190721T180533Z
UID:7556-1566070200-1566075600@lynnwoodalanoclub.org
SUMMARY:Speakers Meeting
DESCRIPTION:Heather k \nLandon B
URL:https://lynnwoodalanoclub.org/event/speakers-meeting-3/
CATEGORIES:Speakers Meeting
END:VEVENT
BEGIN:VEVENT
DTSTART;TZID=America/Los_Angeles:20190810T193000
DTEND;TZID=America/Los_Angeles:20190810T210000
DTSTAMP:20260422T183136
CREATED:20190721T175009Z
LAST-MODIFIED:20190808T003833Z
UID:7554-1565465400-1565470800@lynnwoodalanoclub.org
SUMMARY:Speakers Meeting
DESCRIPTION:Laura H. \n/ \nJohn B.
URL:https://lynnwoodalanoclub.org/event/speakers-meeting-2/
CATEGORIES:Speakers Meeting
END:VEVENT
END:VCALENDAR