BEGIN:VCALENDAR
VERSION:2.0
PRODID:-//Lynnwood Alano Club - ECPv6.15.20//NONSGML v1.0//EN
CALSCALE:GREGORIAN
METHOD:PUBLISH
X-ORIGINAL-URL:https://lynnwoodalanoclub.org
X-WR-CALDESC:Events for Lynnwood Alano Club
REFRESH-INTERVAL;VALUE=DURATION:PT1H
X-Robots-Tag:noindex
X-PUBLISHED-TTL:PT1H
BEGIN:VTIMEZONE
TZID:America/Los_Angeles
BEGIN:DAYLIGHT
TZOFFSETFROM:-0800
TZOFFSETTO:-0700
TZNAME:PDT
DTSTART:20180311T100000
END:DAYLIGHT
BEGIN:STANDARD
TZOFFSETFROM:-0700
TZOFFSETTO:-0800
TZNAME:PST
DTSTART:20181104T090000
END:STANDARD
BEGIN:DAYLIGHT
TZOFFSETFROM:-0800
TZOFFSETTO:-0700
TZNAME:PDT
DTSTART:20190310T100000
END:DAYLIGHT
BEGIN:STANDARD
TZOFFSETFROM:-0700
TZOFFSETTO:-0800
TZNAME:PST
DTSTART:20191103T090000
END:STANDARD
BEGIN:DAYLIGHT
TZOFFSETFROM:-0800
TZOFFSETTO:-0700
TZNAME:PDT
DTSTART:20200308T100000
END:DAYLIGHT
BEGIN:STANDARD
TZOFFSETFROM:-0700
TZOFFSETTO:-0800
TZNAME:PST
DTSTART:20201101T090000
END:STANDARD
END:VTIMEZONE
BEGIN:VEVENT
DTSTART;TZID=America/Los_Angeles:20190929T130000
DTEND;TZID=America/Los_Angeles:20190929T163000
DTSTAMP:20260422T190044
CREATED:20190914T004215Z
LAST-MODIFIED:20190914T004215Z
UID:7629-1569762000-1569774600@lynnwoodalanoclub.org
SUMMARY:Seahawks potluck.
DESCRIPTION:Meeting room B \nWhat the game! Fun and fellowship\, you bring the food. \n 
URL:https://lynnwoodalanoclub.org/event/seahawks-potluck-2/
CATEGORIES:Potluck
END:VEVENT
BEGIN:VEVENT
DTSTART;TZID=America/Los_Angeles:20190929T130000
DTEND;TZID=America/Los_Angeles:20190929T160000
DTSTAMP:20260422T190044
CREATED:20190915T024803Z
LAST-MODIFIED:20190915T024949Z
UID:7633-1569762000-1569772800@lynnwoodalanoclub.org
SUMMARY:We are Seahawks! Not saints Potluck.
DESCRIPTION:Watch the game\, fellowship and fun. \nDon’t forget your potluck patter.? \n 
URL:https://lynnwoodalanoclub.org/event/we-are-seahawks-not-saints-potluck/
CATEGORIES:Potluck
END:VEVENT
BEGIN:VEVENT
DTSTART;TZID=America/Los_Angeles:20190915T100000
DTEND;TZID=America/Los_Angeles:20190915T120000
DTSTAMP:20260422T190044
CREATED:20190913T001656Z
LAST-MODIFIED:20190913T001656Z
UID:7617-1568541600-1568548800@lynnwoodalanoclub.org
SUMMARY:Seahawks potluck!
DESCRIPTION:10am in meeting room B. \nFun and fellowship\, you  the eats. \n 
URL:https://lynnwoodalanoclub.org/event/seahawks-potluck/
CATEGORIES:Potluck
END:VEVENT
END:VCALENDAR