BEGIN:VCALENDAR
VERSION:2.0
PRODID:-//Lynnwood Alano Club - ECPv6.15.20//NONSGML v1.0//EN
CALSCALE:GREGORIAN
METHOD:PUBLISH
X-ORIGINAL-URL:https://lynnwoodalanoclub.org
X-WR-CALDESC:Events for Lynnwood Alano Club
REFRESH-INTERVAL;VALUE=DURATION:PT1H
X-Robots-Tag:noindex
X-PUBLISHED-TTL:PT1H
BEGIN:VTIMEZONE
TZID:America/Los_Angeles
BEGIN:DAYLIGHT
TZOFFSETFROM:-0800
TZOFFSETTO:-0700
TZNAME:PDT
DTSTART:20180311T100000
END:DAYLIGHT
BEGIN:STANDARD
TZOFFSETFROM:-0700
TZOFFSETTO:-0800
TZNAME:PST
DTSTART:20181104T090000
END:STANDARD
BEGIN:DAYLIGHT
TZOFFSETFROM:-0800
TZOFFSETTO:-0700
TZNAME:PDT
DTSTART:20190310T100000
END:DAYLIGHT
BEGIN:STANDARD
TZOFFSETFROM:-0700
TZOFFSETTO:-0800
TZNAME:PST
DTSTART:20191103T090000
END:STANDARD
BEGIN:DAYLIGHT
TZOFFSETFROM:-0800
TZOFFSETTO:-0700
TZNAME:PDT
DTSTART:20200308T100000
END:DAYLIGHT
BEGIN:STANDARD
TZOFFSETFROM:-0700
TZOFFSETTO:-0800
TZNAME:PST
DTSTART:20201101T090000
END:STANDARD
BEGIN:DAYLIGHT
TZOFFSETFROM:-0800
TZOFFSETTO:-0700
TZNAME:PDT
DTSTART:20210314T100000
END:DAYLIGHT
BEGIN:STANDARD
TZOFFSETFROM:-0700
TZOFFSETTO:-0800
TZNAME:PST
DTSTART:20211107T090000
END:STANDARD
BEGIN:DAYLIGHT
TZOFFSETFROM:-0800
TZOFFSETTO:-0700
TZNAME:PDT
DTSTART:20220313T100000
END:DAYLIGHT
BEGIN:STANDARD
TZOFFSETFROM:-0700
TZOFFSETTO:-0800
TZNAME:PST
DTSTART:20221106T090000
END:STANDARD
BEGIN:DAYLIGHT
TZOFFSETFROM:-0800
TZOFFSETTO:-0700
TZNAME:PDT
DTSTART:20230312T100000
END:DAYLIGHT
BEGIN:STANDARD
TZOFFSETFROM:-0700
TZOFFSETTO:-0800
TZNAME:PST
DTSTART:20231105T090000
END:STANDARD
BEGIN:DAYLIGHT
TZOFFSETFROM:-0800
TZOFFSETTO:-0700
TZNAME:PDT
DTSTART:20240310T100000
END:DAYLIGHT
BEGIN:STANDARD
TZOFFSETFROM:-0700
TZOFFSETTO:-0800
TZNAME:PST
DTSTART:20241103T090000
END:STANDARD
END:VTIMEZONE
BEGIN:VEVENT
DTSTART;TZID=America/Los_Angeles:20231125T204500
DTEND;TZID=America/Los_Angeles:20231125T233000
DTSTAMP:20260422T125104
CREATED:20231113T231735Z
LAST-MODIFIED:20231113T232952Z
UID:9712-1700945100-1700955000@lynnwoodalanoclub.org
SUMMARY:💃🕺Giving Thanks Dance Party
DESCRIPTION:🕺💃 Come dance off the turkey weight and support a good cause… \nThe Lynnwood Food Bank \nBring a nonperishable food item\, or items as your dance admission! \nWe will be having a 50/50 Raffle. \nConcessions will be open! \nDJ PAPA G in the HOUSE! \n 
URL:https://lynnwoodalanoclub.org/event/giving-thanks-dance-party/
LOCATION:Lynnwood Alano Club\, 3717 196th St SW\, Lynnwood\, WA\, 98036\, United States
CATEGORIES:Dance
ATTACH;FMTTYPE=image/jpeg:https://lynnwoodalanoclub.org/wp-content/uploads/2023/11/Givingthanksdance.jpg
END:VEVENT
BEGIN:VEVENT
DTSTART;TZID=America/Los_Angeles:20230909T204500
DTEND;TZID=America/Los_Angeles:20230909T233000
DTSTAMP:20260422T125104
CREATED:20230821T191730Z
LAST-MODIFIED:20230821T192719Z
UID:9639-1694292300-1694302200@lynnwoodalanoclub.org
SUMMARY:UNITY DANCE
DESCRIPTION: 
URL:https://lynnwoodalanoclub.org/event/9639/
LOCATION:Lynnwood Alano Club\, 3717 196th St SW\, Lynnwood\, WA\, 98036\, United States
CATEGORIES:Dance
END:VEVENT
BEGIN:VEVENT
DTSTART;TZID=America/Los_Angeles:20221001T210000
DTEND;TZID=America/Los_Angeles:20221001T233000
DTSTAMP:20260422T125104
CREATED:20220928T212526Z
LAST-MODIFIED:20220928T212526Z
UID:9138-1664658000-1664667000@lynnwoodalanoclub.org
SUMMARY:🕺 1st Saturday Dance
DESCRIPTION:🕺 1st Saturday Dance 💃 \nJoin Papa G & the LAC Dance Crue for our FREE 1st Saturday Throwback Video Dance Party. \nConcessions will be open\, serving tacos!
URL:https://lynnwoodalanoclub.org/event/%f0%9f%95%ba-1st-saturday-dance/
LOCATION:Lynnwood Alano Club\, 3717 196th St SW\, Lynnwood\, WA\, 98036\, United States
CATEGORIES:Dance
END:VEVENT
BEGIN:VEVENT
DTSTART;TZID=America/Los_Angeles:20220716T210000
DTEND;TZID=America/Los_Angeles:20220716T230000
DTSTAMP:20260422T125104
CREATED:20220705T190129Z
LAST-MODIFIED:20220705T224542Z
UID:9057-1658005200-1658012400@lynnwoodalanoclub.org
SUMMARY:💃 West Coast Swing Dance Lessons
DESCRIPTION:💃 West Coast Swing Dance Lessons \nInstructed by Lisa and Kathy \nBring your dancing shoes.
URL:https://lynnwoodalanoclub.org/event/%f0%9f%92%83-west-coast-swing-dance-lessons/
LOCATION:Lynnwood Alano Club\, 3717 196th St SW\, Lynnwood\, WA\, 98036\, United States
CATEGORIES:Dance
END:VEVENT
BEGIN:VEVENT
DTSTART;TZID=America/Los_Angeles:20220604T210000
DTEND;TZID=America/Los_Angeles:20220604T233000
DTSTAMP:20260422T125104
CREATED:20220531T034020Z
LAST-MODIFIED:20220531T034020Z
UID:9003-1654376400-1654385400@lynnwoodalanoclub.org
SUMMARY:🏖 1st Saturday Dance Party
DESCRIPTION:1st Saturday Dance Party\n \n\nBeach Party Theme!!!\n\n \n\nKickin’ off the summer months in style\, 50’s and 60’s Beach Party music\, with a little bit of everything else mixed in!\n\n \n\nHope to see you there in your beach wear\, oh yeah!\n\n \n1st Saturday of every Month\n9:00 PM – 11:30 PM
URL:https://lynnwoodalanoclub.org/event/%f0%9f%8f%96-1st-saturday-dance-party/
LOCATION:4001 198th St SW #6\, 4001 198th St SW\, Lynnwood\, WA\, 98036\, United States
CATEGORIES:Dance
END:VEVENT
BEGIN:VEVENT
DTSTART;TZID=America/Los_Angeles:20220402T204500
DTEND;TZID=America/Los_Angeles:20220402T230000
DTSTAMP:20260422T125104
CREATED:20220324T045049Z
LAST-MODIFIED:20220324T045301Z
UID:8937-1648932300-1648940400@lynnwoodalanoclub.org
SUMMARY:🕺 First Saturday Dance
DESCRIPTION:🕺 First Saturday Dance 💃🏻 \nPapa G and the LAC Dance Crue \nFree dance / espresso & concessions open \nJoin us for some clean & sober fun!
URL:https://lynnwoodalanoclub.org/event/%f0%9f%95%ba-first-saturday-dance/
LOCATION:Lynnwood Alano Club\, 3717 196th St SW\, Lynnwood\, WA\, 98036\, United States
CATEGORIES:Dance
END:VEVENT
BEGIN:VEVENT
DTSTART;TZID=America/Los_Angeles:20200307T210000
DTEND;TZID=America/Los_Angeles:20200307T233000
DTSTAMP:20260422T125104
CREATED:20200222T014322Z
LAST-MODIFIED:20200222T014322Z
UID:7830-1583614800-1583623800@lynnwoodalanoclub.org
SUMMARY:?St Patrik's Day Dance!?
DESCRIPTION:Free dance\nYour free to boogie ?
URL:https://lynnwoodalanoclub.org/event/%f0%9f%91%95st-patriks-day-dance%f0%9f%92%9a/
LOCATION:WA
CATEGORIES:Dance
END:VEVENT
BEGIN:VEVENT
DTSTART;TZID=America/Los_Angeles:20200215T213000
DTEND;TZID=America/Los_Angeles:20200215T233000
DTSTAMP:20260422T125104
CREATED:20200109T190219Z
LAST-MODIFIED:20200117T031813Z
UID:7793-1581802200-1581809400@lynnwoodalanoclub.org
SUMMARY:?Valentine's Day Dance?
DESCRIPTION:Valentine’s  Day Dance\n50/50 Raffle! \n$5.00 Entry fee \n 
URL:https://lynnwoodalanoclub.org/event/%f0%9f%92%98valentines-day-dance%f0%9f%92%96/
LOCATION:WA
CATEGORIES:Dance
END:VEVENT
BEGIN:VEVENT
DTSTART;TZID=America/Los_Angeles:20200201T093000
DTEND;TZID=America/Los_Angeles:20200201T233000
DTSTAMP:20260422T125104
CREATED:20200109T184516Z
LAST-MODIFIED:20200131T014103Z
UID:7784-1580549400-1580599800@lynnwoodalanoclub.org
SUMMARY:?Free Dance! ?
DESCRIPTION:Yes it is Free!\n\nBeach party theme. \nDont forget the Speedos! \nDon’t forget to boogie!?
URL:https://lynnwoodalanoclub.org/event/%f0%9f%8e%b6free-dance-%f0%9f%92%83/
LOCATION:WA
CATEGORIES:Dance
END:VEVENT
BEGIN:VEVENT
DTSTART;TZID=America/Los_Angeles:20200104T213000
DTEND;TZID=America/Los_Angeles:20200104T233000
DTSTAMP:20260422T125104
CREATED:20191205T070444Z
LAST-MODIFIED:20191208T024327Z
UID:7749-1578173400-1578180600@lynnwoodalanoclub.org
SUMMARY:? Free Dance! ?
DESCRIPTION:Put a little boogie in it! \nFirst free dance of the year! \nLive DJ and Line dancing. \n 
URL:https://lynnwoodalanoclub.org/event/%f0%9f%92%b5-free-dance-%f0%9f%92%83/
LOCATION:WA
CATEGORIES:Dance
END:VEVENT
BEGIN:VEVENT
DTSTART;TZID=America/Los_Angeles:20191207T210000
DTEND;TZID=America/Los_Angeles:20191207T233000
DTSTAMP:20260422T125104
CREATED:20191118T223821Z
LAST-MODIFIED:20191118T223821Z
UID:7725-1575752400-1575761400@lynnwoodalanoclub.org
SUMMARY:1st Saturday Dance
DESCRIPTION:Free Admission \nLive DJ and Line Dancing
URL:https://lynnwoodalanoclub.org/event/1st-saturday-dance/
LOCATION:WA
CATEGORIES:Dance
END:VEVENT
BEGIN:VEVENT
DTSTART;TZID=America/Los_Angeles:20191116T183000
DTEND;TZID=America/Los_Angeles:20191116T193000
DTSTAMP:20260422T125104
CREATED:20191105T201425Z
LAST-MODIFIED:20191108T014055Z
UID:7707-1573929000-1573932600@lynnwoodalanoclub.org
SUMMARY:AA Dinner Night ?
DESCRIPTION:A scrumptious dinner for all who attend… And have $5 \nSpaghetti garlic bread and Caesar salad. ? \nWhat is it TBA.
URL:https://lynnwoodalanoclub.org/event/aa-dinner%f0%9f%8d%9b/
LOCATION:WA
CATEGORIES:Dance
END:VEVENT
BEGIN:VEVENT
DTSTART;TZID=America/Los_Angeles:20191026T213000
DTEND;TZID=America/Los_Angeles:20191026T233000
DTSTAMP:20260422T125104
CREATED:20190915T033901Z
LAST-MODIFIED:20191018T011524Z
UID:7638-1572125400-1572132600@lynnwoodalanoclub.org
SUMMARY:?Halloween Party?
DESCRIPTION:$5 at the door. $8 for couples \nDJ Tom Melinda. \nCostume contest. \n50/50 raffle. \nHalloween Dance. ?
URL:https://lynnwoodalanoclub.org/event/%f0%9f%8e%83halloween-party%f0%9f%91%bb/
LOCATION:WA
CATEGORIES:Dance
END:VEVENT
BEGIN:VEVENT
DTSTART;TZID=America/Los_Angeles:20191005T213000
DTEND;TZID=America/Los_Angeles:20191005T233000
DTSTAMP:20260422T125104
CREATED:20190924T024928Z
LAST-MODIFIED:20190924T024928Z
UID:7650-1570311000-1570318200@lynnwoodalanoclub.org
SUMMARY:First Fall Dance.
DESCRIPTION:Free Admission? Yup its Free!
URL:https://lynnwoodalanoclub.org/event/first-fall-dance/
LOCATION:WA
CATEGORIES:Dance
END:VEVENT
BEGIN:VEVENT
DTSTART;TZID=America/Los_Angeles:20190907T213000
DTEND;TZID=America/Los_Angeles:20190908T000000
DTSTAMP:20260422T125104
CREATED:20190829T003929Z
LAST-MODIFIED:20190829T003929Z
UID:7607-1567891800-1567900800@lynnwoodalanoclub.org
SUMMARY:Hip Hop Dance.
DESCRIPTION:End of the summer bash! \nFeaturing DJ Marky Mark. \nSingles entry $3\, couples $5.
URL:https://lynnwoodalanoclub.org/event/hip-hop-dance-6/
LOCATION:Lynnwood Alano Club\, 3717 196th St SW\, Lynnwood\, WA\, 98036\, United States
CATEGORIES:Dance
END:VEVENT
END:VCALENDAR